BEGIN:VCALENDAR
VERSION:2.0
PRODID:-//Alabama Emergency Management Agency Public Portal - ECPv5.9.1//NONSGML v1.0//EN
CALSCALE:GREGORIAN
METHOD:PUBLISH
X-WR-CALNAME:Alabama Emergency Management Agency Public Portal
X-ORIGINAL-URL:https://portal.ema.alabama.gov
X-WR-CALDESC:Events for Alabama Emergency Management Agency Public Portal
BEGIN:VTIMEZONE
TZID:America/New_York
BEGIN:DAYLIGHT
TZOFFSETFROM:-0500
TZOFFSETTO:-0400
TZNAME:EDT
DTSTART:20190310T070000
END:DAYLIGHT
BEGIN:STANDARD
TZOFFSETFROM:-0400
TZOFFSETTO:-0500
TZNAME:EST
DTSTART:20191103T060000
END:STANDARD
END:VTIMEZONE
BEGIN:VEVENT
DTSTART;VALUE=DATE:20190617
DTEND;VALUE=DATE:20190619
DTSTAMP:20211008T043151
CREATED:20190515T161107Z
LAST-MODIFIED:20190515T161107Z
UID:694-1560729600-1560902399@portal.ema.alabama.gov
SUMMARY:G0290 Basic Public Information Officer - Tuscaloosa\, Alabama
DESCRIPTION:G0290: Basic Public Information Officers Course\nJune 17-18\, 2019 – Alabama Fire College – Tuscaloosa\, AL \nCourse Description\nPublic information consists of the processes\, procedures and systems to communicate timely\, accurate and accessible information to affected audiences. Armed with good information\, people are empowered to make better decisions and thus contribute to the overall response goal of saving lives and protecting property. Personnel tasked with gathering\, verifying\, coordinating and disseminating public information at the federal\, state\, tribal\, local and territorial levels bear this considerable responsibility concurrently with other job assignments. These Public Information Officers (PIOs) must be provided with the opportunity to learn and practice the skills they will use on the job. \nThe Basic Public Information Officer Course (G0290) is designed to provide participants with the opportunity to start applying basic concepts underlying the Public Information Officer (PIO) role. This course can provide a basic understanding of the PIO function for those new to the position. \nThis is the second course in the Public Information Training Series. This course is delivered at the state\, local\, tribal and territorial governments. Other courses are conducted as resident courses at the Emergency Management Institute (EMI). The courses build on each other enhancing students? skills further at each level. This course uses Bloom?s Taxonomy as a guide to focus the course material to augment the knowledge and comprehension for new PIOs. \nThis course will consider the value of communication before\, during and after an incident. It will help PIOs identify critical audiences\, both internal and external. \nSelection Criteria: The primary audience for this training is individuals who have public information responsibilities as their main job or as an auxiliary function at the federal\, state\, local\, tribal or territorial level of government\, and in the private and nongovernmental sectors. \nCourse Objectives\n\nExplain why emergency public information is important during an incident. (Unit 1)\nRecognize the functional needs and challenges of different audiences. (Unit 1)\nDemonstrate the role and function of the PIO in both day-to-day and emergency environments. (Unit 2)\nCompare actions PIOs can take to work with the news media during day-to-day and emergency situations. (Unit 2)\nUsing the strategic communications planning model\, develop a public awareness campaign (95%). (Unit 3)\nUsing the strategic communications planning model\, develop an incident communications strategy (5%). (Unit 3)\nExplain the news briefing cycle. (Unit 4)\nOutline media needs at the scene. (Unit 4)\nDescribe the difference between media briefings and press conferences. (Unit 4)\nDescribe different public information written products. (Unit 5)\nApply effective news release writing guidance. (Unit 5)\nAdapt or repurpose written media products for other purposes. (Unit 5)\nDescribe what types of impressions specific body language might convey during an interview. (Unit 6)\nIdentify elements of an interview the PIO should consider ahead of time. (Unit 6)\nIdentify steps a PIO needs to take to prepare for and conduct a news interview. (Unit 6)\nDemonstrate effective techniques for on-camera interviews. (Unit 6)\nGiven an emergency scenario\, apply public information skills. (Unit 7)\nRecall course key points. (Unit 8)\n\nMission Areas\n\nCommon\n\nPrerequisites\nPrerequisite Courses: \n\nG0289\nIS0100.c\nIS0702.a\nIS0909\n\nOther Prerequisites: \nCompletion of IS0029 may be substituted for G0289 \nDisciplines\n\nEmergency Management\n\nPrimary Core Capability\nPublic Information and Warning
URL:https://portal.ema.alabama.gov/train/g0290-basic-public-information-officer-tuscaloosa-alabama/
LOCATION:Alabama Fire College\, 2501 Phoenix Drive\, Tuscaloosa\, Alabama\, 35405
CATEGORIES:Training
ORGANIZER;CN="Ken%20Horst":MAILTO:khorst@fa.ua.edu
END:VEVENT
BEGIN:VEVENT
DTSTART;VALUE=DATE:20190618
DTEND;VALUE=DATE:20190621
DTSTAMP:20211008T043151
CREATED:20190423T152259Z
LAST-MODIFIED:20190423T152259Z
UID:683-1560816000-1561075199@portal.ema.alabama.gov
SUMMARY:MGT-346 EOC Operations and Planning for All-Hazards presented by TEEX - Decatur\, AL
DESCRIPTION:MGT-346 EOC Operations & Planning for All-Hazards\nPresented by TEEX\nThis course provides personnel who could be assigned to or work in an Emergency Operations Center (EOC) the skills necessary to effectively plan for and manage a large-scale incidents by applying and implementing an all-hazards\, multi-disciplinary\, management team approach. The course places specific emphasis on the planning\, resource\, and information management processes. The course focuses on the key decision-making requirements within the Emergency Operations Center. The jurisdictional team will learn from the effects of incident decisions while working in an EOC using a simulated\, notional jurisdiction as they respond to the final days exercise. The course is delivered in your jurisdiction. The instructional team consists of coaches and mentors experienced in emergency management and incident response. The course uses a multi-discipline\, jurisdictional approach to accomplish the course objectives. The course adapts existing incident management systems\, best practices and procedures to the unique requirements of responding to all-hazards incident.\n\nPrerequisites\nThere are no prerequisites for this course. \nRecommended\nParticipants should have an intermediate level of understanding of the Incident Command System (ICS) and some experience in Incident Management. Completion of IS-775\, EOC Management and Operations Course is also recommended. Basic ICS information can be gained via completion of the Federal Emergency Management Agency (FEMA) online courses IS-100\, IS-200\, IS-700\, and IS-800. \nTopics\n\nMulti-Agency Coordination System (MACS)\nFunctions of the EOC\nEOC Organizational Models\nPlanning Process\nInformation Management Process\nResource Management Process\nManagement and Operations Processes\nFamiliarization with and use the Emergency Management Exercise System (EM*ES)\nWorking in an EOC\nDecision-making exercises\n\nSuggested Audience\nEligible participants include emergency management and response personnel who currently or potentially work in an EOC at the state\, territorial\, local\, tribal\, or Department of Defense (DoD) installation level. Enrollment can be single participants\, jurisdictions\, or mixed.\nDisciplines include\, but are not limited to: \n\nLaw Enforcement (LE)\nEmergency Medical Services (EMS)\nEmergency management\nFire Service\nGovernmental administrative\nPublic safety communications\nHealth care\nPublic Health (PH)\,\nHazardous Materials (HazMat)\nPublic Works (PW)\nUtilities\nNon-governmental organizations\nVolunteer and/or faith-based organizations\nPrivate business partners\n\nTo register for this course\, please visit https://teex.org/Pages/Class.aspx?course=MGT346&courseTitle=EOC%20Operations%20and%20Planning%20for%20All%20Hazards \n\nMGT-346-2019-MorganCo
URL:https://portal.ema.alabama.gov/train/mgt-346-eoc-operations-and-planning-for-all-hazards-presented-by-teex-decatur-al/
LOCATION:Morgan County EMA\, 302 Lee Street NE\, Decatur\, AL\, 35601\, United States
CATEGORIES:Training
ORGANIZER;CN="Trent%20Simon":MAILTO:tsimon@co.morgan.al.us
END:VEVENT
END:VCALENDAR