BEGIN:VCALENDAR
VERSION:2.0
PRODID:-//Alabama Emergency Management Agency Public Portal - ECPv6.15.20//NONSGML v1.0//EN
CALSCALE:GREGORIAN
METHOD:PUBLISH
X-ORIGINAL-URL:https://portal.ema.alabama.gov
X-WR-CALDESC:Events for Alabama Emergency Management Agency Public Portal
REFRESH-INTERVAL;VALUE=DURATION:PT1H
X-Robots-Tag:noindex
X-PUBLISHED-TTL:PT1H
BEGIN:VTIMEZONE
TZID:UTC
BEGIN:STANDARD
TZOFFSETFROM:+0000
TZOFFSETTO:+0000
TZNAME:UTC
DTSTART:20210101T000000
END:STANDARD
END:VTIMEZONE
BEGIN:VEVENT
DTSTART;TZID=UTC:20220510T080000
DTEND;TZID=UTC:20220510T170000
DTSTAMP:20260425T161655
CREATED:20220507T040422Z
LAST-MODIFIED:20220507T040422Z
UID:3109-1652169600-1652202000@portal.ema.alabama.gov
SUMMARY:Alabama Governor's Hurricane Exercise
DESCRIPTION:To attend HURREX 22 virtually/remotely\, please use the following Zoom linc: \nYou are invited to a Zoom webinar. \nWhen: May 10\, 2022 07:30 AM Central Time (US and Canada) \nTopic: 2022 Governor’s Hurricane Exercise (HURREX 22) \n2022 HURREX ExPlan – FINAL v2 \nPlease click the link below to join the webinar: \nhttps://us02web.zoom.us/j/81310991260 \nThe HURREX 22 Webinar line will open by 0730 and the exercise will commence promptly at 0800 with an introduction by Governor Ivey\, followed by AEMA Director Hastings and then a weather Update from the National Weather Service.  The Zoom line will remain open during the full conduct of the exercise.   \nPlease ensure your phones/computer mics are on mute when logging into the Webinar. \nDay of Ex Schedule \nA Sign-in Sheet and Participant Feedback Form are attached for those attending remotely.  Please ensure these are completed and emailed to AEMAExercise@ema.alabama.gov no later than 12 May 22. \nSign-In Sheet \nParticipant Feedback Form
URL:https://portal.ema.alabama.gov/train/alabama-governors-hurricane-exercise/
LOCATION:Alabama EMA\, 5898 County Road 41\, Clanton\, AL\, 35046\, United States
CATEGORIES:Exercise
ORGANIZER;CN="AEMA Training":MAILTO:training@ema.alabama.gov
END:VEVENT
END:VCALENDAR