BEGIN:VCALENDAR
VERSION:2.0
PRODID:-//Alabama Emergency Management Agency Public Portal - ECPv6.15.20//NONSGML v1.0//EN
CALSCALE:GREGORIAN
METHOD:PUBLISH
X-ORIGINAL-URL:https://portal.ema.alabama.gov
X-WR-CALDESC:Events for Alabama Emergency Management Agency Public Portal
REFRESH-INTERVAL;VALUE=DURATION:PT1H
X-Robots-Tag:noindex
X-PUBLISHED-TTL:PT1H
BEGIN:VTIMEZONE
TZID:America/Chicago
BEGIN:DAYLIGHT
TZOFFSETFROM:-0600
TZOFFSETTO:-0500
TZNAME:CDT
DTSTART:20230312T080000
END:DAYLIGHT
BEGIN:STANDARD
TZOFFSETFROM:-0500
TZOFFSETTO:-0600
TZNAME:CST
DTSTART:20231105T070000
END:STANDARD
BEGIN:DAYLIGHT
TZOFFSETFROM:-0600
TZOFFSETTO:-0500
TZNAME:CDT
DTSTART:20240310T080000
END:DAYLIGHT
BEGIN:STANDARD
TZOFFSETFROM:-0500
TZOFFSETTO:-0600
TZNAME:CST
DTSTART:20241103T070000
END:STANDARD
BEGIN:DAYLIGHT
TZOFFSETFROM:-0600
TZOFFSETTO:-0500
TZNAME:CDT
DTSTART:20250309T080000
END:DAYLIGHT
BEGIN:STANDARD
TZOFFSETFROM:-0500
TZOFFSETTO:-0600
TZNAME:CST
DTSTART:20251102T070000
END:STANDARD
END:VTIMEZONE
BEGIN:VEVENT
DTSTART;TZID=America/Chicago:20241022T080000
DTEND;TZID=America/Chicago:20241023T170000
DTSTAMP:20260422T052022
CREATED:20231116T132507Z
LAST-MODIFIED:20231116T132507Z
UID:7958-1729584000-1729702800@portal.ema.alabama.gov
SUMMARY:PER-211: Medical Management of Chem\, Bio\, Radiological\, Nuclear\, and Explosive Events
DESCRIPTION:Registration: https://teex.org/class/PER211/ \nCourse Description: \nWhat if a catastrophic event occurs? Will you be ready? Will you need a special level of protection? Is decontamination necessary? Do you have the right medications? \nPER 211\, Medical Management of Chemical\, Biological\, Radiological\, Nuclear and Explosives\, (CBRNE) Events answers these questions and more as you learn how to distinguish between different agents of concern that could be used in a major incident. \nThis course is a combination of facilitated discussions\, small-group exercises\, Human Patient Simulator hands-on scenarios\, and traditional classroom discussions. Exercises are conducted in a CBRNE scenario using both adult and pediatric Human Patient Simulators to reinforce classroom lectures and interaction. \nThis course promotes critical thinking skills while utilizing the RAPID-Care concept. The multi-discipline make-up of the participants helps to strengthen information sharing\, communications\, and medical surge capabilities.
URL:https://portal.ema.alabama.gov/train/per-211-medical-management-of-chem-bio-radiological-nuclear-and-explosive-events-2/
LOCATION:Mobile County EOC\, 7350 Zeigler Blvd\, Mobile\, AL\, 36608
CATEGORIES:Training
END:VEVENT
END:VCALENDAR