BEGIN:VCALENDAR
VERSION:2.0
PRODID:-//Alabama Emergency Management Agency Public Portal - ECPv6.15.20//NONSGML v1.0//EN
CALSCALE:GREGORIAN
METHOD:PUBLISH
X-ORIGINAL-URL:https://portal.ema.alabama.gov
X-WR-CALDESC:Events for Alabama Emergency Management Agency Public Portal
REFRESH-INTERVAL;VALUE=DURATION:PT1H
X-Robots-Tag:noindex
X-PUBLISHED-TTL:PT1H
BEGIN:VTIMEZONE
TZID:America/Chicago
BEGIN:DAYLIGHT
TZOFFSETFROM:-0600
TZOFFSETTO:-0500
TZNAME:CDT
DTSTART:20230312T080000
END:DAYLIGHT
BEGIN:STANDARD
TZOFFSETFROM:-0500
TZOFFSETTO:-0600
TZNAME:CST
DTSTART:20231105T070000
END:STANDARD
BEGIN:DAYLIGHT
TZOFFSETFROM:-0600
TZOFFSETTO:-0500
TZNAME:CDT
DTSTART:20240310T080000
END:DAYLIGHT
BEGIN:STANDARD
TZOFFSETFROM:-0500
TZOFFSETTO:-0600
TZNAME:CST
DTSTART:20241103T070000
END:STANDARD
BEGIN:DAYLIGHT
TZOFFSETFROM:-0600
TZOFFSETTO:-0500
TZNAME:CDT
DTSTART:20250309T080000
END:DAYLIGHT
BEGIN:STANDARD
TZOFFSETFROM:-0500
TZOFFSETTO:-0600
TZNAME:CST
DTSTART:20251102T070000
END:STANDARD
END:VTIMEZONE
BEGIN:VEVENT
DTSTART;TZID=America/Chicago:20240919T080000
DTEND;TZID=America/Chicago:20240919T170000
DTSTAMP:20260422T041956
CREATED:20240826T184930Z
LAST-MODIFIED:20240826T184930Z
UID:10122-1726732800-1726765200@portal.ema.alabama.gov
SUMMARY:G0191 Emergency Operations Center/Incident Command System Interface - Autauga County
DESCRIPTION:Course Description\n\n\nThe goal of this professional development course\, G0191 Emergency Operations Center/Incident Command System Interface\, is to enable the students to develop an effective interface between the Incident Command/Unified Command and the Emergency Operations Center by applying National Incident Management System principles. \nSelection Criteria: The intended audience(s) are federal\, state\, tribal\, territorial\, local level\, private industry\, volunteer and nongovernmental emergency management personnel who are active in a community’s ICS and EOC activities. This course works best when delivered to combined audience of ICS and EOC personnel. The materials were developed with the assumption that audience members may have little or no actual experience as a member of an Incident Command Post staff or an EOC Staff. \n\n\n\n\nCourse Objectives\n\n\n\nExplain the course structure and potential ICS/EOC interface challenges.\nExplain key NIMS concepts\, command and coordination systems\, and structures.\nAnalyze given scenarios to determine commonalities and potential interface issues between ICS and EOCs.\nExplain the respective roles and interconnectivity of the NIMS command and coordination systems in coordination.\nContrast the typical role and functions of the Incident Command and the EOC during emergency operations.\nAnalyze given scenarios to apply ICS/EOC interface concepts.\nDevelop an ICS/EOC interface action plan for your community.\nSummarize the course objectives.\n\n\n\n\n\nMission Areas\n\n\n\nCommon\n\n\n\n\n\nPrerequisites\n\n\nPrior to enrolling in G0191\, students must complete: \n\nIS-0100 An Introduction to the Incident Command System\, ICS 100\nIS-0700 An Introduction to the National Incident Management System\nIS-0800 National Response Framework (NRF)\, An Introduction\nIS-0200 Basic Incident Command System for Initial Response\, ICS 200 or\nIS-2200 Basic Emergency Operations Center Functions
URL:https://portal.ema.alabama.gov/train/g0191-emergency-operations-center-incident-command-system-interface-autauga-county/
LOCATION:Prattville Public Safety Building\, 201 Gin Shop Road\, Prattville\, AL\, 36067\, United States
CATEGORIES:Training
ORGANIZER;CN="David Bagley":MAILTO:david.bagley@autauga.com
END:VEVENT
END:VCALENDAR