BEGIN:VCALENDAR
VERSION:2.0
PRODID:-//Alabama Emergency Management Agency Public Portal - ECPv6.15.20//NONSGML v1.0//EN
CALSCALE:GREGORIAN
METHOD:PUBLISH
X-WR-CALNAME:Alabama Emergency Management Agency Public Portal
X-ORIGINAL-URL:https://portal.ema.alabama.gov
X-WR-CALDESC:Events for Alabama Emergency Management Agency Public Portal
REFRESH-INTERVAL;VALUE=DURATION:PT1H
X-Robots-Tag:noindex
X-PUBLISHED-TTL:PT1H
BEGIN:VTIMEZONE
TZID:America/Chicago
BEGIN:DAYLIGHT
TZOFFSETFROM:-0600
TZOFFSETTO:-0500
TZNAME:CDT
DTSTART:20230312T080000
END:DAYLIGHT
BEGIN:STANDARD
TZOFFSETFROM:-0500
TZOFFSETTO:-0600
TZNAME:CST
DTSTART:20231105T070000
END:STANDARD
BEGIN:DAYLIGHT
TZOFFSETFROM:-0600
TZOFFSETTO:-0500
TZNAME:CDT
DTSTART:20240310T080000
END:DAYLIGHT
BEGIN:STANDARD
TZOFFSETFROM:-0500
TZOFFSETTO:-0600
TZNAME:CST
DTSTART:20241103T070000
END:STANDARD
BEGIN:DAYLIGHT
TZOFFSETFROM:-0600
TZOFFSETTO:-0500
TZNAME:CDT
DTSTART:20250309T080000
END:DAYLIGHT
BEGIN:STANDARD
TZOFFSETFROM:-0500
TZOFFSETTO:-0600
TZNAME:CST
DTSTART:20251102T070000
END:STANDARD
END:VTIMEZONE
BEGIN:VEVENT
DTSTART;TZID=America/Chicago:20240906T080000
DTEND;TZID=America/Chicago:20240908T170000
DTSTAMP:20260422T081255
CREATED:20230728T141737Z
LAST-MODIFIED:20231012T142329Z
UID:6804-1725609600-1725814800@portal.ema.alabama.gov
SUMMARY:PER-213: Wide Area Search
DESCRIPTION:Registration: https://teex.org/class/PER213/ \nPOC: esti@teex.tamu.edu or call (866) 878-8900 \nCourse Description: \n\nWhen disaster strikes\, it can be a challenge to effectively mobilize\, organize\, and deploy resources needed to perform wide area searches. This course is an excellent training opportunity for any jurisdiction or agency that may face such an emergency. The course content applies to a vast number of critical situations\, including natural disasters or terrorist incidents. \nYou will be instructed in practical search methods and skills so you can perform systematic searches over a large affected area. The training will include challenging exercises that mirror real life scenarios. The three-day long event will conclude with an in-depth exercise that requires participants to utilize the skills gained during the course by working through an incident from start to finish in a single operational period. \nThe trainers delivering the course are knowledgeable—they are experienced emergency responders who have actively utilized wide area search techniques during some of the nation’s largest and most challenging operations\, such as Hurricanes Katrina\, Ike\, Gustav\, and Rita; the Space Shuttle Columbia recovery operation; and many other incidents that required the same comprehensive strategies.
URL:https://portal.ema.alabama.gov/train/per-213-wide-area-search-7/
LOCATION:Enterprise Rescue\, 519 E Lee St\, Enterprise\, AL\, 36330\, United States
CATEGORIES:Training
END:VEVENT
END:VCALENDAR