BEGIN:VCALENDAR
VERSION:2.0
PRODID:-//Alabama Emergency Management Agency Public Portal - ECPv6.15.20//NONSGML v1.0//EN
CALSCALE:GREGORIAN
METHOD:PUBLISH
X-ORIGINAL-URL:https://portal.ema.alabama.gov
X-WR-CALDESC:Events for Alabama Emergency Management Agency Public Portal
REFRESH-INTERVAL;VALUE=DURATION:PT1H
X-Robots-Tag:noindex
X-PUBLISHED-TTL:PT1H
BEGIN:VTIMEZONE
TZID:America/Chicago
BEGIN:DAYLIGHT
TZOFFSETFROM:-0600
TZOFFSETTO:-0500
TZNAME:CDT
DTSTART:20220313T080000
END:DAYLIGHT
BEGIN:STANDARD
TZOFFSETFROM:-0500
TZOFFSETTO:-0600
TZNAME:CST
DTSTART:20221106T070000
END:STANDARD
BEGIN:DAYLIGHT
TZOFFSETFROM:-0600
TZOFFSETTO:-0500
TZNAME:CDT
DTSTART:20230312T080000
END:DAYLIGHT
BEGIN:STANDARD
TZOFFSETFROM:-0500
TZOFFSETTO:-0600
TZNAME:CST
DTSTART:20231105T070000
END:STANDARD
BEGIN:DAYLIGHT
TZOFFSETFROM:-0600
TZOFFSETTO:-0500
TZNAME:CDT
DTSTART:20240310T080000
END:DAYLIGHT
BEGIN:STANDARD
TZOFFSETFROM:-0500
TZOFFSETTO:-0600
TZNAME:CST
DTSTART:20241103T070000
END:STANDARD
END:VTIMEZONE
BEGIN:VEVENT
DTSTART;TZID=America/Chicago:20230822T080000
DTEND;TZID=America/Chicago:20230824T170000
DTSTAMP:20260422T174748
CREATED:20230705T202954Z
LAST-MODIFIED:20230705T202954Z
UID:6592-1692691200-1692896400@portal.ema.alabama.gov
SUMMARY:L0960: All-Hazards Division/Group Supervisor
DESCRIPTION:Registration: Coordinate registration through State Training Officer – Training@ema.alabama.gov \nMore Info: https://www.tn.gov/tema/emergency-community/training/training-calendar/2023/8/22/l0960-all-hazards-division-group-supervisor-.html \nPOC: TEMA.Training@tn.gov \nCourse Description \nThe goal of this professional development course\, E/L0960 Division/Group Supervisor (DIVS)\, is to provide emergency responders from local\, Tribal\, State\, Federal and private-organizations with an overview of key duties and responsibilities of a Division/Group Supervisor within an Incident Command structure for all incident types (Type 4 – Type 1). \nThe learner must achieve a minimum passing score of 75% on final knowledge assessments or demonstrate mastery on performance assessments or research assignments to earn the IACET CEU. \nSelection Criteria: NIMS ICS Position Specific training shall be completed by personnel who will be required to gain a certificate of training and the credentials to function in an ICS Organization\, such as an IMT\, as a member of the Command\, General Staff or as a Unit Leader. These criteria will be verified on the student enrollment request by endorsement of the Authority Having Jurisdiction (AHJ) such as the State/Tribal Training Officer or the course manager. \nACE: Level: Lower Division/Associate\nACE: Credit Hours: 2 \nCourse Objectives \n• Describe the function and components of the Operations Section.\n• Describe the role and responsibilities of the Strike Team Leader/ Resource Team and Task Force Leader.\n• Describe the leadership\, supervision\, and personnel management responsibilities of the Division/Group Supervisor.\n• Describe the information gathering and dissemination responsibilities of the Division/Group Supervisor.\n• Describe the role of the Division/Group Supervisor in the Planning Process.\n• Describe the risk management and safety responsibilities of the Division/Group Supervisor.\n• Describe the interactions with the Command and General Staff and other ICS functional areas that are required to perform the Division/Group Supervisor’s job. \nMission Areas \n• Respond \nPrerequisites\nThe required prerequisites to this course are: \n· IS-100 Introduction to the Incident Command System (ICS)\, ICS 100\n· IS-200 Basic Incident Command System for Initial Response\, ICS 200\n· E/L/G 0300 Intermediate Incident Command System for Expanding Incidents\, ICS 300\n· E/L/G 0400 Advanced Incident Command System for Complex Incidents\, ICS 400\n· IS-700 An Introduction to the National Incident Management System (NIMS)\n· IS-800 National Response Framework (NRF)\, An Introduction \nOther recommended (not required) courses: \n· E/L/G 0191 Emergency Operations Center/Incident Command System Interface\n· O 305 Type 3 AHIMT Training Course (US Fire Administration)\n· O 337 Command & General Staff Functions for Local Incident Management Team (National Fire Academy)
URL:https://portal.ema.alabama.gov/train/l0960-all-hazards-division-group-supervisor/
LOCATION:Chattanooga Fire Training Center\, 910 Wisdom St\, Chattanooga\, TN\, 37406\, United States
CATEGORIES:Training
ORGANIZER;CN="Tennessee Emergency Management Agency":MAILTO:TEMA.training@tn.gov
END:VEVENT
BEGIN:VEVENT
DTSTART;TZID=America/Chicago:20230823T080000
DTEND;TZID=America/Chicago:20230824T170000
DTSTAMP:20260422T174748
CREATED:20230523T151143Z
LAST-MODIFIED:20230523T151143Z
UID:5988-1692777600-1692896400@portal.ema.alabama.gov
SUMMARY:MGT-348: Medical Preparedness and Response for Bombing Incidents
DESCRIPTION:Registration: https://teex.org/class/MGT348/ \nPOC: esti@teex.tamu.edu or call (866) 878-8900 \nCourse Description: \n\nThis course is designed for personnel from any professional background who may become part of a community response to a bombing event. This interactive\, instructor-facilitated program employs case studies and research-based information designed to enhance medical preparedness for and response to blast effects. Breakout sessions address considerations and concerns specific both to medical responders and emergency planners. \nStudents are encouraged to ask questions and to create a to-do list of items they don’t have the answers to\, so they have a list of tasks to address when they return to their jurisdiction.
URL:https://portal.ema.alabama.gov/train/mgt-348-medical-preparedness-and-response-for-bombing-incidents-2/
LOCATION:Farley Nuclear Plant\, 16070 US-431S\, Headland\, AL\, 36345\, United States
CATEGORIES:Training
END:VEVENT
END:VCALENDAR