BEGIN:VCALENDAR
VERSION:2.0
PRODID:-//Alabama Emergency Management Agency Public Portal - ECPv6.15.20//NONSGML v1.0//EN
CALSCALE:GREGORIAN
METHOD:PUBLISH
X-WR-CALNAME:Alabama Emergency Management Agency Public Portal
X-ORIGINAL-URL:https://portal.ema.alabama.gov
X-WR-CALDESC:Events for Alabama Emergency Management Agency Public Portal
REFRESH-INTERVAL;VALUE=DURATION:PT1H
X-Robots-Tag:noindex
X-PUBLISHED-TTL:PT1H
BEGIN:VTIMEZONE
TZID:America/Chicago
BEGIN:DAYLIGHT
TZOFFSETFROM:-0600
TZOFFSETTO:-0500
TZNAME:CDT
DTSTART:20220313T080000
END:DAYLIGHT
BEGIN:STANDARD
TZOFFSETFROM:-0500
TZOFFSETTO:-0600
TZNAME:CST
DTSTART:20221106T070000
END:STANDARD
BEGIN:DAYLIGHT
TZOFFSETFROM:-0600
TZOFFSETTO:-0500
TZNAME:CDT
DTSTART:20230312T080000
END:DAYLIGHT
BEGIN:STANDARD
TZOFFSETFROM:-0500
TZOFFSETTO:-0600
TZNAME:CST
DTSTART:20231105T070000
END:STANDARD
BEGIN:DAYLIGHT
TZOFFSETFROM:-0600
TZOFFSETTO:-0500
TZNAME:CDT
DTSTART:20240310T080000
END:DAYLIGHT
BEGIN:STANDARD
TZOFFSETFROM:-0500
TZOFFSETTO:-0600
TZNAME:CST
DTSTART:20241103T070000
END:STANDARD
END:VTIMEZONE
BEGIN:VEVENT
DTSTART;TZID=America/Chicago:20230731T080000
DTEND;TZID=America/Chicago:20230802T170000
DTSTAMP:20260422T121534
CREATED:20230606T174852Z
LAST-MODIFIED:20230606T174852Z
UID:6125-1690790400-1690995600@portal.ema.alabama.gov
SUMMARY:G0300: Intermediate Incident Command System for Expanding Incidents
DESCRIPTION:This course is being delivered through the Alabama Fire College. \nRegistration: https://www.alabamafirecollege.org/course/nims-ics-300-intermediate-ics-for-expanding-incidents/ \nPOC: Alabama Fire College 205-391-3744 \nCourse Description: \nThis course provides training for personnel who require advanced application of the Incident Command System (ICS). This course expands upon information covered in the ICS 100 and ICS 200 courses. \n\n\nCourse Objectives\n\n\n\nDescribe how the National Incident Management System Command and Management component supports the management of expanding incidents.\nDescribe the Incident/Event Management process for supervisors and expanding incidents as prescribed by the ICS.\nImplement the Incident Management process on a simulated Type 3 incident.\nDevelop an Incident Action Plan for a simulated incident.\n\n\n\nPrerequisites\n\nParticipants must have successfully completed:– IS0100\, Introduction to the Incident Command System;\n– IS0200\, Basic Incident Command System for Initial Response;\n– IS0700\, National Incident Management System\, An Introduction;\n– IS0800\, National Response Framework\, An Introduction \nRecommended: Experience using concepts and principles from ICS 100\, ICS 200\, and use of skills in a response or exercise.
URL:https://portal.ema.alabama.gov/train/g0300-intermediate-incident-command-system-for-expanding-incidents-2/
LOCATION:Lee County EMA\, 908 Avenue B\, Opelika\, AL\, 36801\, United States
CATEGORIES:Training
ORGANIZER;CN="Alabama Fire College":MAILTO:registration@alabamafirecollege.org
END:VEVENT
END:VCALENDAR