BEGIN:VCALENDAR
VERSION:2.0
PRODID:-//Alabama Emergency Management Agency Public Portal - ECPv6.15.20//NONSGML v1.0//EN
CALSCALE:GREGORIAN
METHOD:PUBLISH
X-ORIGINAL-URL:https://portal.ema.alabama.gov
X-WR-CALDESC:Events for Alabama Emergency Management Agency Public Portal
REFRESH-INTERVAL;VALUE=DURATION:PT1H
X-Robots-Tag:noindex
X-PUBLISHED-TTL:PT1H
BEGIN:VTIMEZONE
TZID:America/Chicago
BEGIN:DAYLIGHT
TZOFFSETFROM:-0600
TZOFFSETTO:-0500
TZNAME:CDT
DTSTART:20220313T080000
END:DAYLIGHT
BEGIN:STANDARD
TZOFFSETFROM:-0500
TZOFFSETTO:-0600
TZNAME:CST
DTSTART:20221106T070000
END:STANDARD
BEGIN:DAYLIGHT
TZOFFSETFROM:-0600
TZOFFSETTO:-0500
TZNAME:CDT
DTSTART:20230312T080000
END:DAYLIGHT
BEGIN:STANDARD
TZOFFSETFROM:-0500
TZOFFSETTO:-0600
TZNAME:CST
DTSTART:20231105T070000
END:STANDARD
BEGIN:DAYLIGHT
TZOFFSETFROM:-0600
TZOFFSETTO:-0500
TZNAME:CDT
DTSTART:20240310T080000
END:DAYLIGHT
BEGIN:STANDARD
TZOFFSETFROM:-0500
TZOFFSETTO:-0600
TZNAME:CST
DTSTART:20241103T070000
END:STANDARD
END:VTIMEZONE
BEGIN:VEVENT
DTSTART;TZID=America/Chicago:20230707T080000
DTEND;TZID=America/Chicago:20230708T170000
DTSTAMP:20260424T062618
CREATED:20230522T203235Z
LAST-MODIFIED:20230522T203235Z
UID:5951-1688716800-1688835600@portal.ema.alabama.gov
SUMMARY:PER-334: When Disaster Strikes: Prepare\, Act\, Survive
DESCRIPTION:Registration: https://teex.org/class/PER334/ \nPOC: esti@teex.tamu.edu or call (866) 878-8900 \nCourse Description: \nThis course is designed to prepare individuals who may be directly affected by a disaster help themselves\, their family and other community members. Participants will learn how to develop a family preparedness plan\, practice self-rescue\, perform search and light rescue techniques\, and understand the recovery process.
URL:https://portal.ema.alabama.gov/train/per-334-when-disaster-strikes-prepare-act-survive/
LOCATION:Daphne Training Facility\, 25250 Bailey Yelding Jr. Dr.\, Daphne\, AL\, 36526\, United States
CATEGORIES:Training
END:VEVENT
END:VCALENDAR