BEGIN:VCALENDAR
VERSION:2.0
PRODID:-//Alabama Emergency Management Agency Public Portal - ECPv6.15.20//NONSGML v1.0//EN
CALSCALE:GREGORIAN
METHOD:PUBLISH
X-WR-CALNAME:Alabama Emergency Management Agency Public Portal
X-ORIGINAL-URL:https://portal.ema.alabama.gov
X-WR-CALDESC:Events for Alabama Emergency Management Agency Public Portal
REFRESH-INTERVAL;VALUE=DURATION:PT1H
X-Robots-Tag:noindex
X-PUBLISHED-TTL:PT1H
BEGIN:VTIMEZONE
TZID:America/New_York
BEGIN:DAYLIGHT
TZOFFSETFROM:-0500
TZOFFSETTO:-0400
TZNAME:EDT
DTSTART:20180311T070000
END:DAYLIGHT
BEGIN:STANDARD
TZOFFSETFROM:-0400
TZOFFSETTO:-0500
TZNAME:EST
DTSTART:20181104T060000
END:STANDARD
BEGIN:DAYLIGHT
TZOFFSETFROM:-0500
TZOFFSETTO:-0400
TZNAME:EDT
DTSTART:20190310T070000
END:DAYLIGHT
BEGIN:STANDARD
TZOFFSETFROM:-0400
TZOFFSETTO:-0500
TZNAME:EST
DTSTART:20191103T060000
END:STANDARD
BEGIN:DAYLIGHT
TZOFFSETFROM:-0500
TZOFFSETTO:-0400
TZNAME:EDT
DTSTART:20200308T070000
END:DAYLIGHT
BEGIN:STANDARD
TZOFFSETFROM:-0400
TZOFFSETTO:-0500
TZNAME:EST
DTSTART:20201101T060000
END:STANDARD
END:VTIMEZONE
BEGIN:VEVENT
DTSTART;VALUE=DATE:20190916
DTEND;VALUE=DATE:20190919
DTSTAMP:20260425T092151
CREATED:20190620T021306Z
LAST-MODIFIED:20190823T200648Z
UID:731-1568592000-1568851199@portal.ema.alabama.gov
SUMMARY:L0969 NIMS ICS All Hazards Communications Unit Leader - Florence
DESCRIPTION:L0969 NIMS ICS All Hazards Communications Unit Leader\nSeptember 16-18\, 2019\nFlorence\, Alabama\nCourse Overview: \nThe COML Course is a three (3) day class for a total of 21 hours.  This curriculum trains emergency responders on practices and procedures used to manage the Communications Unit in an ICS structure at an All Hazards Event.  COML responsibilities at an incident might include developing plans for the effective use of incident communications equipment and facilities\, managing the distribution of communications equipment to incident personnel\, and coordinating the installation and testing of communications equipment. The COML will supervise other members of the Communications Unit\, such as the Communications Technician (COMT)\, Radio Operator (RADO)\, and Incident Communications Center Manager (INCM)\, if those positions are filled during an incident. The class is presented with facilitated lecture and student exercises.  There is adequate time built into the class to facilitate interactive discussions and hands-on training. \nTarget Audience:   \nThis curriculum trains emergency responders on practices and procedures used to manage the Communications Unit in an ICS structure at an All Hazards Event.   The COML class is targeted for all local\, regional\, state and federal cross disciplinary emergency response professionals and coordination/support personnel with a communications background.  Candidates for COML training should have knowledge of the following: local communications processes and technologies; available communications systems; and regional\, State\, and local communications plans. Training should be taken by all public safety communications experts involved in any of the following activities: developing plans for the effective use of existing incident communications equipment\, facilities\, policies\, and procedures; managing the distribution of communications equipment to incident personnel; and coordinating the installation and testing of communications equipment.  An application and prerequisites certification is required prior to attending the course. \n  \nPrerequisites:\nStudents will need to have taken the latest versions of the following prerequisite classes: \nIS-100 \nIS-200 \nIS-700 \nIS-800 \nICS-300 \nAdditionally\, each student should be familiar with their Tactical Interoperable Communications Plan (TICP)\, Statewide Communication Interoperability Plan (SCIP) and the Regional Interoperable Communications Plan (RICP) and/or your local communication plan and communication assets. Listed below are the Type III All-Hazards COML prerequisites that candidates must possess to receive a certificate for course completion: \n\nA public safety communications background with exposure to field operations.\nFundamental public safety communications technology awareness\, supervisory\, and personnel management skills.\nBasic knowledge of local communications and communications system\, frequencies and spectrum\, technologies\, local topography\, system site locations including knowledge of local\, regional\, and state communication plans\, and communications and resource contacts.1640 Pune\n\nRecommended courses:\nICS-400 \nO-305 Type 3 All Hazards Incident Management Team Training Course \nCourse Length:\n3 Days – 21.0 Hours \nIn addition to registering for this course through the AEMA Training Portal\, students will need to fill out a completed FEMA 119-25-1 General Application along with providing copies of prerequisite course certificates or an EMI IS transcript. This is due to the AEMA Exercise & Training Section no later than August 16\, 2019 at training@ema.alabama.gov.
URL:https://portal.ema.alabama.gov/train/l0969-nims-ics-all-hazards-communications-unit-leader-florence/
LOCATION:University of North Alabama – East Campus\, 1640 Tune Avenue\, Florence\, AL\, 35630\, United States
CATEGORIES:Training
ORGANIZER;CN="Jason Smith":MAILTO:jason.smith@ema.alabama.gov
END:VEVENT
END:VCALENDAR