BEGIN:VCALENDAR
VERSION:2.0
PRODID:-//Alabama Emergency Management Agency Public Portal - ECPv6.15.20//NONSGML v1.0//EN
CALSCALE:GREGORIAN
METHOD:PUBLISH
X-WR-CALNAME:Alabama Emergency Management Agency Public Portal
X-ORIGINAL-URL:https://portal.ema.alabama.gov
X-WR-CALDESC:Events for Alabama Emergency Management Agency Public Portal
REFRESH-INTERVAL;VALUE=DURATION:PT1H
X-Robots-Tag:noindex
X-PUBLISHED-TTL:PT1H
BEGIN:VTIMEZONE
TZID:UTC
BEGIN:STANDARD
TZOFFSETFROM:+0000
TZOFFSETTO:+0000
TZNAME:UTC
DTSTART:20180101T000000
END:STANDARD
END:VTIMEZONE
BEGIN:VEVENT
DTSTART;VALUE=DATE:20190822
DTEND;VALUE=DATE:20190823
DTSTAMP:20260424T190545
CREATED:20190329T192715Z
LAST-MODIFIED:20190524T205726Z
UID:669-1566432000-1566518399@portal.ema.alabama.gov
SUMMARY:MGT-414 Advanced Critical Infrastructure Protection
DESCRIPTION:FLYER-MGT-414 Adv Critical Infrastructure Protection_secure \nTo register for this course\, please visit the following weblink: https://teex.org/Pages/Class.aspx?course=MGT414&courseTitle=Advanced Critical Infrastructure Protection \n 
URL:https://portal.ema.alabama.gov/train/mgt-414-advanced-critical-infrastructure-protection/
LOCATION:Alabama EMA\, 5898 County Road 41\, Clanton\, AL\, 35046\, United States
CATEGORIES:Training
ORGANIZER;CN="Jason Smith":MAILTO:jason.smith@ema.alabama.gov
END:VEVENT
END:VCALENDAR