BEGIN:VCALENDAR
VERSION:2.0
PRODID:-//Alabama Emergency Management Agency Public Portal - ECPv6.15.20//NONSGML v1.0//EN
CALSCALE:GREGORIAN
METHOD:PUBLISH
X-WR-CALNAME:Alabama Emergency Management Agency Public Portal
X-ORIGINAL-URL:https://portal.ema.alabama.gov
X-WR-CALDESC:Events for Alabama Emergency Management Agency Public Portal
REFRESH-INTERVAL;VALUE=DURATION:PT1H
X-Robots-Tag:noindex
X-PUBLISHED-TTL:PT1H
BEGIN:VTIMEZONE
TZID:America/New_York
BEGIN:DAYLIGHT
TZOFFSETFROM:-0500
TZOFFSETTO:-0400
TZNAME:EDT
DTSTART:20180311T070000
END:DAYLIGHT
BEGIN:STANDARD
TZOFFSETFROM:-0400
TZOFFSETTO:-0500
TZNAME:EST
DTSTART:20181104T060000
END:STANDARD
BEGIN:DAYLIGHT
TZOFFSETFROM:-0500
TZOFFSETTO:-0400
TZNAME:EDT
DTSTART:20190310T070000
END:DAYLIGHT
BEGIN:STANDARD
TZOFFSETFROM:-0400
TZOFFSETTO:-0500
TZNAME:EST
DTSTART:20191103T060000
END:STANDARD
BEGIN:DAYLIGHT
TZOFFSETFROM:-0500
TZOFFSETTO:-0400
TZNAME:EDT
DTSTART:20200308T070000
END:DAYLIGHT
BEGIN:STANDARD
TZOFFSETFROM:-0400
TZOFFSETTO:-0500
TZNAME:EST
DTSTART:20201101T060000
END:STANDARD
END:VTIMEZONE
BEGIN:VEVENT
DTSTART;VALUE=DATE:20190820
DTEND;VALUE=DATE:20190822
DTSTAMP:20260424T172517
CREATED:20190708T235611Z
LAST-MODIFIED:20190708T235612Z
UID:743-1566259200-1566431999@portal.ema.alabama.gov
SUMMARY:L0276 Benefit-Cost Analysis: Entry-Level - Clanton\, AL
DESCRIPTION:L0276 Benefit-Cost Analysis: Entry-Level\nAlabama EMA Media Room – Clanton\, Alabama\nCourse Description:\nThis course is designed as an introduction to the fundamental concepts of benefit-cost (BC) analysis. Participants will learn how to obtain BC data and conduct analyses using the latest version of the Benefit Cost Toolkit. This course will not teach how to conduct level-two BC analyses. \nSelection Criteria:\nThe primary audience for this course is Federal\, state\, local\, and tribal hazard mitigation staff; applicants/grantees; subapplicants/subgrantees; and personnel who are involved in the grant application development process and provide technical assistance. \nCourse Objectives:\nAt the end of this course\, participants will be able to: \n\nDemonstrate their knowledge of the basic Benefit-Cost Analysis (BCA) theory.\nDemonstrate their knowledge of the basic flood concepts.\nDescribe features of the BCA Tool.\nComplete a BCA using the Flood Module.\nExplain each screen and important data fields in the Flood Module.\nComplete the independent case study assignment.\nUse supplemental tools and techniques in the BCA Tool in response to different scenarios\, which include: multiple structures\, displacement costs calculation\, loss of function calculation\, benefit-cost ratio just below 1.0\, types of basements.\nExplain key Damage-Frequency Assessments (DFA) concepts.\nIdentify eligible hazards.\nExplain the DFA Module data and documentation requirements.\nComplete a DFA Module BCA.\nExplain Tornado Safe Room\, Hurricane Wind\, Hurricane Safe Room\, Wildfire\, and Earthquake Module data and documentation requirements.\nComplete a Tornado Safe Room\, Hurricane Wind\, Hurricane Safe Room\, Wildfire\, and Earthquake Module BCA.\n\nPrerequisite(s):\nIS-276.a BCA: Entry-Level \n  \nStudents will need to complete a FEMA 119-25-2 General Application Short Form and supply a copy of their certificate from the Independent Study Course at the beginning of the course to receive credit.
URL:https://portal.ema.alabama.gov/train/l0276-benefit-cost-analysis-entry-level-clanton-al/
LOCATION:Alabama EMA\, 5898 County Road 41\, Clanton\, AL\, 35046\, United States
CATEGORIES:Training
ORGANIZER;CN="Jason Smith":MAILTO:jason.smith@ema.alabama.gov
END:VEVENT
BEGIN:VEVENT
DTSTART;TZID=America/New_York:20190821T080000
DTEND;TZID=America/New_York:20190821T123000
DTSTAMP:20260424T172517
CREATED:20190717T222113Z
LAST-MODIFIED:20190820T030011Z
UID:758-1566374400-1566390600@portal.ema.alabama.gov
SUMMARY:EARTHEX 2019
DESCRIPTION:The third annual Emergency All-sector Response Transnational Hazard Exercise® (EARTHEX).
URL:https://portal.ema.alabama.gov/train/earthex-2019/
LOCATION:Alabama EMA\, 5898 County Road 41\, Clanton\, AL\, 35046\, United States
CATEGORIES:Exercise
ORGANIZER;CN="Jason Smith":MAILTO:jason.smith@ema.alabama.gov
END:VEVENT
END:VCALENDAR