BEGIN:VCALENDAR
VERSION:2.0
PRODID:-//Alabama Emergency Management Agency Public Portal - ECPv5.9.1//NONSGML v1.0//EN
CALSCALE:GREGORIAN
METHOD:PUBLISH
X-WR-CALNAME:Alabama Emergency Management Agency Public Portal
X-ORIGINAL-URL:https://portal.ema.alabama.gov
X-WR-CALDESC:Events for Alabama Emergency Management Agency Public Portal
BEGIN:VTIMEZONE
TZID:America/New_York
BEGIN:DAYLIGHT
TZOFFSETFROM:-0500
TZOFFSETTO:-0400
TZNAME:EDT
DTSTART:20180311T070000
END:DAYLIGHT
BEGIN:STANDARD
TZOFFSETFROM:-0400
TZOFFSETTO:-0500
TZNAME:EST
DTSTART:20181104T060000
END:STANDARD
END:VTIMEZONE
BEGIN:VEVENT
DTSTART;TZID=America/New_York:20180405T080000
DTEND;TZID=America/New_York:20180406T170000
DTSTAMP:20210929T105459
CREATED:20180312T155209Z
LAST-MODIFIED:20180312T155641Z
UID:357-1522915200-1523034000@portal.ema.alabama.gov
SUMMARY:ICS-400: Advanced ICS - Command and General Staff - Complex Incidents
DESCRIPTION:Please contact Chris Tate at Jefferson County Emergency Management Agency to register. \ntatec@jccal.org or 205-254-2048
URL:https://portal.ema.alabama.gov/train/ics-400-advanced-ics-command-and-general-staff-complex-incidents/
LOCATION:Birmingham Fire/Rescue Service – Drill and Training South Facility\, 600 11th Avenue S\, Birmingham\, AL\, United States
ORGANIZER;CN="Chris%20Tate":MAILTO:tatec@jccal.org
END:VEVENT
END:VCALENDAR