BEGIN:VCALENDAR
VERSION:2.0
PRODID:-//Alabama Emergency Management Agency Public Portal - ECPv5.9.1//NONSGML v1.0//EN
CALSCALE:GREGORIAN
METHOD:PUBLISH
X-WR-CALNAME:Alabama Emergency Management Agency Public Portal
X-ORIGINAL-URL:https://portal.ema.alabama.gov
X-WR-CALDESC:Events for Alabama Emergency Management Agency Public Portal
BEGIN:VTIMEZONE
TZID:America/New_York
BEGIN:DAYLIGHT
TZOFFSETFROM:-0500
TZOFFSETTO:-0400
TZNAME:EDT
DTSTART:20180311T070000
END:DAYLIGHT
BEGIN:STANDARD
TZOFFSETFROM:-0400
TZOFFSETTO:-0500
TZNAME:EST
DTSTART:20181104T060000
END:STANDARD
END:VTIMEZONE
BEGIN:VEVENT
DTSTART;TZID=America/New_York:20180612T130000
DTEND;TZID=America/New_York:20180614T120000
DTSTAMP:20210926T155043
CREATED:20180409T184823Z
LAST-MODIFIED:20180409T184823Z
UID:402-1528808400-1528977600@portal.ema.alabama.gov
SUMMARY:G288: Local Volunteer and Donations Management & Volunteer Reception Center (VRC) Training - Mobile County
DESCRIPTION:The Governor’s Office of Volunteer Services\, along with the Alabama Volunteer and Donations Coordination Team\, is hosting G288: Local Volunteer and Donations Management trainings. The G288: Local Volunteer and Donations Management is a 1 ½ day course designed to strengthen the abilities of local jurisdictions to successfully prepare for and handle volunteer and donations management issues that arise. \nAs Alabama’s lead for Volunteers and Donations\, the Governor’s Office of Volunteer Services has recognized the importance of this training and has scheduled two trainings this coming April and June. The goal is for every local Volunteer and Donations Coordinator and personnel from each county EMA to attend this course. This training allows participants the time to discuss their county’s Volunteer and Donations Management Annex for your County EOP and will guide you through the process of writing or updating your plan. \nIn addition to G288\, HandsOn River Region will also be providing a Volunteer Registration Center (VRC) training. VRC training will prepare participants to staff VRCs that will register and place spontaneous volunteers in times of disaster. \nYou must register to attend these trainings. This is a free training\, but travel expenses are to be incurred by the sponsoring organization/participant. \n  \n\n\n\nLocation\nG288 Training\nVRC Training\nRegistration Deadline\n\n\nMobile County\nJune 12\, 2018: 1:00pm-4:30pm \nJune 13\, 2018: 8:30am-4:30pm\nJune 14\, 2018 \n8:30am – 12:00pm\nJune 8\, 2018\n\n\n\nTo register\, please visit http://www.servealabama.gov/volunteer-donations. Please see attached document for additional information.
URL:https://portal.ema.alabama.gov/train/g288-local-volunteer-and-donations-management-volunteer-reception-center-vrc-training-mobile-county/
ORGANIZER;CN="Brooke%20Mills%20-%20OVS":MAILTO:Brooke.Mills@ServeAlabama.gov
END:VEVENT
END:VCALENDAR