BEGIN:VCALENDAR
VERSION:2.0
PRODID:-//Alabama Emergency Management Agency Public Portal - ECPv6.15.20//NONSGML v1.0//EN
CALSCALE:GREGORIAN
METHOD:PUBLISH
X-WR-CALNAME:Alabama Emergency Management Agency Public Portal
X-ORIGINAL-URL:https://portal.ema.alabama.gov
X-WR-CALDESC:Events for Alabama Emergency Management Agency Public Portal
REFRESH-INTERVAL;VALUE=DURATION:PT1H
X-Robots-Tag:noindex
X-PUBLISHED-TTL:PT1H
BEGIN:VTIMEZONE
TZID:UTC
BEGIN:STANDARD
TZOFFSETFROM:+0000
TZOFFSETTO:+0000
TZNAME:UTC
DTSTART:20170101T000000
END:STANDARD
END:VTIMEZONE
BEGIN:VEVENT
DTSTART;TZID=UTC:20181031T080000
DTEND;TZID=UTC:20181031T170000
DTSTAMP:20260424T184122
CREATED:20180816T182144Z
LAST-MODIFIED:20180823T230600Z
UID:569-1540972800-1541005200@portal.ema.alabama.gov
SUMMARY:Farley Nuclear Power Plant Ingestion Pathway Tabletop Exercise
DESCRIPTION:
URL:https://portal.ema.alabama.gov/train/farley-nuclear-power-plant-ingestion-pathway-tabletop-exercise/
LOCATION:Farley NPP JIC\, 16070 US Hwy 431\, Headland\, AL\, 36345\, United States
CATEGORIES:Exercise
ORGANIZER;CN="Chris Newton":MAILTO:chris.newton@ema.alabama.gov
END:VEVENT
END:VCALENDAR